BEGIN:VCALENDAR
VERSION:2.0
PRODID:gruene-bergamlaim-trudering-riem.de
METHOD:PUBLISH
BEGIN:VTIMEZONE
TZID:Europe/Berlin
X-LIC-LOCATION:Europe/Berlin
BEGIN:DAYLIGHT
TZOFFSETFROM:+0100
TZOFFSETTO:+0200
TZNAME:CEST
DTSTART:19700329T020000
RRULE:FREQ=YEARLY;INTERVAL=1;BYDAY=-1SU;BYMONTH=3
END:DAYLIGHT
BEGIN:STANDARD
TZOFFSETFROM:+0200
TZOFFSETTO:+0100
TZNAME:CET
DTSTART:19701025T030000
RRULE:FREQ=YEARLY;INTERVAL=1;BYDAY=-1SU;BYMONTH=10
END:STANDARD
END:VTIMEZONE
BEGIN:VEVENT
UID:431b00d2cce60f99b998f66fba385e55@gruene-bergamlaim-trudering-riem.de
URL;VALUE=URI:https://gruene-bergamlaim-trudering-riem.de/termine/auf-ein
 -bier-mit-sanne-kurz-2/
LOCATION:Michaeligarten, Feichtstr. 10, 81735 München
SUMMARY:Auf ein Bier mit Sanne Kurz
DESCRIPTION;ALTREP="data:text/html,%0A%3Cdiv%20class%3D%22wp-block-column
 s%20is-layout-flex%20wp-container-core-columns-is-layout-9d6595d7%20wp-bl
 ock-columns-is-layout-flex%22%3E%0A%3Cdiv%20class%3D%22wp-block-column%20
 is-layout-flow%20wp-block-column-is-layout-flow%22%3E%0A%3Cfigure%20class
 %3D%22wp-block-image%20size-full%22%3E%3Cimg%20src%3D%22https%3A%2F%2Fgru
 ene-bergamlaim-trudering-riem.de%2Fwp-content%2Fuploads%2F2023%2F07%2FAuf
 -ein-Bier-mit-Sanne-Kurz_LTW-2023_Bayern_Gruene_Landtag-1.jpg%22%20alt%3D
 %22%22%20class%3D%22wp-image-4734%22%20%2F%3E%3C%2Ffigure%3E%0A%3C%2Fdiv%
 3E%0A%0A%0A%0A%3Cdiv%20class%3D%22wp-block-column%20is-layout-flow%20wp-b
 lock-column-is-layout-flow%22%3E%0A%3Cp%3EAm%208.%20Oktober%20ist%20Landt
 agswahl%20%E2%80%93%20lernen%20Sie%20unsere%20Kandidierenden%20kennen%21%
 3C%2Fp%3E%0A%0A%0A%0A%3Cp%3EEine%20Tour%20durch%20die%20Bierg%C3%A4rten%2
 0im%20Stadtbezirk%2015%20und%2016%3A%20Ramersdorf%2C%20Perlach%2C%20Neupe
 rlach%20und%20Waldperlach%2C%20Trudering%2C%20Waldtrudering%2C%20Kirchtru
 dering%2C%20Stra%C3%9Ftrudering%2C%20Riem%20und%20die%20Messestadt.%3C%2F
 p%3E%0A%0A%0A%0A%3Cp%3EDie%20Tour%20startet%20am%206.%20Juli%202023%2C%20
 18-21%20Uhr%2C%20im%20Perlacher%20Hof%20%28Sebastian-Bauer-Stra%C3%9Fe%20
 13%2081737%20M%C3%BCnchen%29%3C%2Fp%3E%0A%0A%0A%0A%3Cp%3E%3Cstrong%3EAm%2
 012.%20Juli%2C%2018-21%20Uhr%2C%20freue%20ich%20mich%20dann%20auf%20ein%2
 0geteiltes%20Bier%20%28oder%20andere%20Getr%C3%A4nke%29%20mit%20Ihnen%20u
 nd%20Euch%20im%20Michaeligarten%20%28Feichtstra%C3%9Fe%2010%2C%2081735%20
 M%C3%BCnchen%29%3C%2Fstrong%3E%3C%2Fp%3E%0A%3C%2Fdiv%3E%0A%3C%2Fdiv%3E%0A
 ":Am 8. Oktober ist Landtagswahl – lernen Sie unsere Kandidierenden ken
 nen!\n\nEine Tour durch die Biergärten im Stadtbezirk 15 und 16: Ramersd
 orf\, Perlach\, Neuperlach und Waldperlach\, Trudering\, Waldtrudering\, 
 Kirchtrudering\, Straßtrudering\, Riem und die Messestadt.\n\nDie Tour s
 tartet am 6. Juli 2023\, 18-21 Uhr\, im Perlacher Hof (Sebastian-Bauer-St
 raße 13 81737 München)\n\nAm 12. Juli\, 18-21 Uhr\, freue ich mich dann
  auf ein geteiltes Bier (oder andere Getränke) mit Ihnen und Euch im Mic
 haeligarten (Feichtstraße 10\, 81735 München)
CLASS:PUBLIC
DTSTART;TZID=Europe/Berlin:20230712T180000
DTEND;TZID=Europe/Berlin:20230712T210000
DTSTAMP:20260422T122329
END:VEVENT
END:VCALENDAR