BEGIN:VCALENDAR
VERSION:2.0
PRODID:gruene-bergamlaim-trudering-riem.de
METHOD:PUBLISH
BEGIN:VTIMEZONE
TZID:Europe/Berlin
X-LIC-LOCATION:Europe/Berlin
BEGIN:DAYLIGHT
TZOFFSETFROM:+0100
TZOFFSETTO:+0200
TZNAME:CEST
DTSTART:19700329T020000
RRULE:FREQ=YEARLY;INTERVAL=1;BYDAY=-1SU;BYMONTH=3
END:DAYLIGHT
BEGIN:STANDARD
TZOFFSETFROM:+0200
TZOFFSETTO:+0100
TZNAME:CET
DTSTART:19701025T030000
RRULE:FREQ=YEARLY;INTERVAL=1;BYDAY=-1SU;BYMONTH=10
END:STANDARD
END:VTIMEZONE
BEGIN:VEVENT
UID:25f7cac7758d670c51a4f01076da0cc2@gruene-bergamlaim-trudering-riem.de
URL;VALUE=URI:https://gruene-bergamlaim-trudering-riem.de/termine/haustue
 rwahlkampf-in-waldtrudering/
LOCATION:Treffpunkt "Truderinger Waldwirtschaft", Wasserburger Landstraß
 e 272, 81827 München
SUMMARY:Haustürwahlkampf in Waldtrudering
DESCRIPTION;ALTREP="data:text/html,%0A%3Cp%3EZieh%20mit%20uns%20um%20die%
 20H%C3%A4user%21%3C%2Fp%3E%0A%0A%0A%0A%3Cp%3ETreffpunkt%20vor%20der%20Tru
 deringer%20Waldwirtschaft%3C%2Fp%3E%0A%0A%0A%0A%3Cp%3E%3C%2Fp%3E%0A":Zieh
  mit uns um die Häuser!\n\nTreffpunkt vor der Truderinger Waldwirtschaft
CLASS:PUBLIC
DTSTART;TZID=Europe/Berlin:20250209T150000
DTEND;TZID=Europe/Berlin:20250209T170000
DTSTAMP:20260425T233541
END:VEVENT
END:VCALENDAR