BEGIN:VCALENDAR
VERSION:2.0
PRODID:gruene-bergamlaim-trudering-riem.de
METHOD:PUBLISH
BEGIN:VTIMEZONE
TZID:Europe/Berlin
X-LIC-LOCATION:Europe/Berlin
BEGIN:DAYLIGHT
TZOFFSETFROM:+0100
TZOFFSETTO:+0200
TZNAME:CEST
DTSTART:19700329T020000
RRULE:FREQ=YEARLY;INTERVAL=1;BYDAY=-1SU;BYMONTH=3
END:DAYLIGHT
BEGIN:STANDARD
TZOFFSETFROM:+0200
TZOFFSETTO:+0100
TZNAME:CET
DTSTART:19701025T030000
RRULE:FREQ=YEARLY;INTERVAL=1;BYDAY=-1SU;BYMONTH=10
END:STANDARD
END:VTIMEZONE
BEGIN:VEVENT
UID:9afd5b01ff8b0d4c61bcbc71ef77648d@gruene-bergamlaim-trudering-riem.de
URL;VALUE=URI:https://gruene-bergamlaim-trudering-riem.de/termine/ov-tref
 fen-im-mai/
LOCATION:Restaurant Hindura, Truderinger Straße 212, München
SUMMARY:OV-Treffen im Mai
DESCRIPTION;ALTREP="data:text/html,%0A%3Cp%3EEndlich%21%20Unser%20erstes%
 20OV-Treffen%20in%20Pr%C3%A4senz%20seit%20%C3%BCber%20einem%20halben%20Ja
 hr%21%3C%2Fp%3E%0A%0A%0A%0A%3Cp%3EF%C3%BCr%20Neu-%20und%20Altmitglieder%2
 0ist%20Zeit%20zum%20Austausch%2C%20Information%20und%20nat%C3%BCrlich%20z
 um%20Ratschen.%20Au%C3%9Ferdem%20berichten%20auch%20Mitglieder%20aus%20un
 seren%20BAs%2014%20und%2015.%20Wir%20treffen%20uns%20ab%2019%3A00%20Uhr%2
 0im%20indischen%20Restaurant%20Hindura%20in%20der%20Truderinger%20Str.%20
 212%2C%2081825%20M%C3%BCnchen.%20%3C%2Fp%3E%0A%0A%0A%0A%3Cp%3EWir%20freue
 n%20uns%20auf%20Euch%21%3C%2Fp%3E%0A":Endlich! Unser erstes OV-Treffen in
  Präsenz seit über einem halben Jahr!\n\nFür Neu- und Altmitglieder is
 t Zeit zum Austausch\, Information und natürlich zum Ratschen. Außerdem
  berichten auch Mitglieder aus unseren BAs 14 und 15. Wir treffen uns ab 
 19:00 Uhr im indischen Restaurant Hindura in der Truderinger Str. 212\, 8
 1825 München.\n\nWir freuen uns auf Euch!
CLASS:PUBLIC
DTSTART;TZID=Europe/Berlin:20220524T190000
DTEND;TZID=Europe/Berlin:20220524T220000
DTSTAMP:20260421T152135
END:VEVENT
END:VCALENDAR