BEGIN:VCALENDAR
VERSION:2.0
PRODID:gruene-bergamlaim-trudering-riem.de
METHOD:PUBLISH
BEGIN:VTIMEZONE
TZID:Europe/Berlin
X-LIC-LOCATION:Europe/Berlin
BEGIN:DAYLIGHT
TZOFFSETFROM:+0100
TZOFFSETTO:+0200
TZNAME:CEST
DTSTART:19700329T020000
RRULE:FREQ=YEARLY;INTERVAL=1;BYDAY=-1SU;BYMONTH=3
END:DAYLIGHT
BEGIN:STANDARD
TZOFFSETFROM:+0200
TZOFFSETTO:+0100
TZNAME:CET
DTSTART:19701025T030000
RRULE:FREQ=YEARLY;INTERVAL=1;BYDAY=-1SU;BYMONTH=10
END:STANDARD
END:VTIMEZONE
BEGIN:VEVENT
UID:ca292571d36b20a4573708fa766117d2@gruene-bergamlaim-trudering-riem.de
URL;VALUE=URI:https://gruene-bergamlaim-trudering-riem.de/termine/ov-tref
 fen-im-september/
LOCATION:Restaurant Hindura, Truderinger Str. 212, 81825 München
SUMMARY:OV Treffen im September
DESCRIPTION;ALTREP="data:text/html,%0A%3Cp%3EUnser%20OV%20Treffen%20wird%
 20vorverlegt%20auf%20den%2011.09.%20-%20wir%20sehen%20uns%20im%20%3Ca%20h
 ref%3D%22https%3A%2F%2Fgruene-bergamlaim-trudering-riem.de%2Ftermine%2Fce
 m-kommt-festzelt-freising%2F%22%3EFestzelt%20Freising%3C%2Fa%3E%21%3C%2Fp
 %3E%0A%0A%0A%0A%3Cp%3E%3C%2Fp%3E%0A":Unser OV Treffen wird vorverlegt auf
  den 11.09. - wir sehen uns im Festzelt Freising!
CLASS:PUBLIC
DTSTART;TZID=Europe/Berlin:20230915T190000
DTEND;TZID=Europe/Berlin:20230915T200000
DTSTAMP:20260421T070908
END:VEVENT
END:VCALENDAR