BEGIN:VCALENDAR
VERSION:2.0
PRODID:gruene-bergamlaim-trudering-riem.de
METHOD:PUBLISH
BEGIN:VTIMEZONE
TZID:Europe/Berlin
X-LIC-LOCATION:Europe/Berlin
BEGIN:DAYLIGHT
TZOFFSETFROM:+0100
TZOFFSETTO:+0200
TZNAME:CEST
DTSTART:19700329T020000
RRULE:FREQ=YEARLY;INTERVAL=1;BYDAY=-1SU;BYMONTH=3
END:DAYLIGHT
BEGIN:STANDARD
TZOFFSETFROM:+0200
TZOFFSETTO:+0100
TZNAME:CET
DTSTART:19701025T030000
RRULE:FREQ=YEARLY;INTERVAL=1;BYDAY=-1SU;BYMONTH=10
END:STANDARD
END:VTIMEZONE
BEGIN:VEVENT
UID:b27041209137eec718d9c32c04149270@gruene-bergamlaim-trudering-riem.de
URL;VALUE=URI:https://gruene-bergamlaim-trudering-riem.de/termine/ov-weih
 nachtsfeier/
LOCATION:Gemeinschaftsraum, Pertisaustr. 7, 81671 München
SUMMARY:OV Weihnachtsfeier
DESCRIPTION;ALTREP="data:text/html,%0A%3Cp%3ELasst%20uns%20dieses%20Wahlk
 ampfjahr%20auf%20unserer%20OV%20Weihnachtsfeier%20gem%C3%BCtlich%20auskli
 ngen.%20%3C%2Fp%3E%0A%0A%0A%0A%3Cp%3EDatum%3A%20Sonntag%2C%2010.12.2023%3
 Cbr%3EUhrzeit%3A%20ab%2017%3A00%20Uhr%3Cbr%3EOrt%3A%20Gemeinschaftsraum%2
 0Pertisaustr.%207%2C%2081671%20M%C3%BCnchen%3C%2Fp%3E%0A%0A%0A%0A%3Cp%3EA
 nmeldung%20ist%20nicht%20n%C3%B6tig.%20Kommt%20einfach%20vorbei%20und%20b
 ringt%20eure%20Familien%20mit%21%20F%C3%BCr%20Getr%C3%A4nke%20ist%20gesor
 gt.%20Es%20w%C3%A4re%20sch%C3%B6n%2C%20wenn%20jeder%20von%20euch%20eine%2
 0Kleinigkeit%20zum%20Buffet%20beisteuert.%20%20%3C%2Fp%3E%0A%0A%0A%0A%3Cp
 %3EWir%20freuen%20uns%20auf%20euch%21%20%F0%9F%8E%85%F0%9F%8E%84%E2%9C%A8
 %3C%2Fp%3E%0A":Lasst uns dieses Wahlkampfjahr auf unserer OV Weihnachtsfe
 ier gemütlich ausklingen.\n\nDatum: Sonntag\, 10.12.2023Uhrzeit: ab 17:0
 0 UhrOrt: Gemeinschaftsraum Pertisaustr. 7\, 81671 München\n\nAnmeldung 
 ist nicht nötig. Kommt einfach vorbei und bringt eure Familien mit! Für
  Getränke ist gesorgt. Es wäre schön\, wenn jeder von euch eine Kleini
 gkeit zum Buffet beisteuert.\n\nWir freuen uns auf euch! 🎅🎄✨
CLASS:PUBLIC
DTSTART;TZID=Europe/Berlin:20231210T170000
DTEND;TZID=Europe/Berlin:20231210T180000
DTSTAMP:20260424T102138
END:VEVENT
END:VCALENDAR