BEGIN:VCALENDAR
VERSION:2.0
PRODID:gruene-bergamlaim-trudering-riem.de
METHOD:PUBLISH
BEGIN:VTIMEZONE
TZID:Europe/Berlin
X-LIC-LOCATION:Europe/Berlin
BEGIN:DAYLIGHT
TZOFFSETFROM:+0100
TZOFFSETTO:+0200
TZNAME:CEST
DTSTART:19700329T020000
RRULE:FREQ=YEARLY;INTERVAL=1;BYDAY=-1SU;BYMONTH=3
END:DAYLIGHT
BEGIN:STANDARD
TZOFFSETFROM:+0200
TZOFFSETTO:+0100
TZNAME:CET
DTSTART:19701025T030000
RRULE:FREQ=YEARLY;INTERVAL=1;BYDAY=-1SU;BYMONTH=10
END:STANDARD
END:VTIMEZONE
BEGIN:VEVENT
UID:bd191394d61b7103bd635c3e5d4e2b4b@gruene-bergamlaim-trudering-riem.de
URL;VALUE=URI:https://gruene-bergamlaim-trudering-riem.de/termine/sternfa
 hrt-mit-eis-quer-durch-muenchen/
LOCATION:Messestadt West, Platz der Menschenrechte
SUMMARY:Sternfahrt mit Eis quer durch München
DESCRIPTION;ALTREP="data:text/html,%0A%3Cfigure%20class%3D%22wp-block-ima
 ge%20aligncenter%20size-full%20is-resized%22%3E%3Cimg%20src%3D%22https%3A
 %2F%2Fgruene-bergamlaim-trudering-riem.de%2Fwp-content%2Fuploads%2F2023%2
 F09%2FEissternfahrt-durch-Muenchen_Gruene-Muenchen_2023.jpg%22%20alt%3D%2
 2%22%20class%3D%22wp-image-4807%22%20style%3D%22width%3A551px%3Bheight%3A
 551px%22%20width%3D%22551%22%20height%3D%22551%22%20%2F%3E%3C%2Ffigure%3E
 %0A%0A%0A%0A%3Cdiv%20style%3D%22height%3A27px%22%20aria-hidden%3D%22true%
 22%20class%3D%22wp-block-spacer%22%3E%3C%2Fdiv%3E%0A%0A%0A%0A%3Cp%3E%3Cst
 rong%3EVeranstalter%3A%20Stadtverband%3C%2Fstrong%3E%3C%2Fp%3E%0A%0A%0A%0
 A%3Cp%3EAm%2015.%20September%20radeln%20die%20Gr%C3%BCnen%20M%C3%BCnchen%
 20durch%20die%20Stadt%2C%20tauschen%20sich%20mit%20den%20M%C3%BCnchner%2A
 innen%20aus%20und%20verteilen%20leckeres%20Eis.%20Ab%2017%3A00%20Uhr%20st
 arten%20wir%20auf%20vier%20unterschiedlichen%20Routen%20aus%20den%20%C3%A
 4u%C3%9Feren%20Stimmkreisen%20und%20bewegen%20uns%20in%20Richtung%20Stadt
 zentrum.%20Unser%20gemeinsames%20Ziel%3A%20Ein%20Treffen%20um%2020%3A00%2
 0Uhr%20auf%20dem%20G%C3%A4rtnerplatz%20%E2%80%93%20dort%20dann%20auch%20m
 it%20Lisa%20Paus%2C%20Bundesministerin%20f%C3%BCr%20Familie%2C%20Senioren
 %2C%20Frauen%20und%20Jugend.%20Wir%20freuen%20uns%20auf%20regen%20Austaus
 ch%20und%20geselliges%20Beisammensein%21%3C%2Fp%3E%0A%0A%0A%0A%3Cp%3E%3Cs
 trong%3ETour%204%3A%20Ramersdorf%20%E2%80%93%20Giesing%20%E2%80%93%20G%C3
 %A4rtnerplatz%3C%2Fstrong%3E%3Cbr%3E%F0%9F%95%93%20Start%3A%2017%3A00%20U
 hr%3Cbr%3E%F0%9F%93%8D%20Ort%3A%20Platz%20der%20Menschenrechte%2C%20Messe
 stadt%20West%3Cbr%3E%F0%9F%9A%B2%20Aufbruch%3A%20~17%3A45%20Uhr%20%28Gesc
 h%C3%A4tzte%20Dauer%20Weiterfahrt%20zum%20Zwischenstopp%3A%2035%20Min%29%
 3C%2Fp%3E%0A%0A%0A%0A%3Cp%3EZwischenstopp%20in%20Giesing%3Cbr%3E%F0%9F%95
 %93%20Start%3A%2018%3A20%20Uhr%3Cbr%3E%F0%9F%93%8D%20Ort%3A%20Tela-Post%2
 0in%20Giesing%20%28U-Bahn-Station%20Silberhornstra%C3%9Fe%29%3Cbr%3E%F0%9
 F%9A%B2%20Ende%3A%2019%3A05%20Uhr%20%28Gesch%C3%A4tzte%20Dauer%20Weiterfa
 hrt%20zum%20G%C3%A4rtnerplatz%3A%2020%20Min%29%3C%2Fp%3E%0A%0A%0A%0A%3Cp%
 3EGemeinsamer%20Abschluss%3A%3Cbr%3EAlle%20vier%20Touren%20treffen%20sich
 %20gegen%2020%20Uhr%20am%20G%C3%A4rtnerplatz%2C%20inklusive%20Bundesminis
 terin%20Lisa%20Paus.%3C%2Fp%3E%0A%0A%0A%0A%3Cp%3EInfos%20zu%20den%20weite
 ren%20Routen%20findet%20ihr%20auf%20der%20%3Ca%20href%3D%22https%3A%2F%2F
 www.gruene-muenchen.de%2Fterminliste%2Ftermin%2Feistour%2F%22%3EKV%20M%C3
 %BCnchen%20Website%3C%2Fa%3E.%3C%2Fp%3E%0A":Veranstalter: Stadtverband\n\
 nAm 15. September radeln die Grünen München durch die Stadt\, tauschen 
 sich mit den Münchner*innen aus und verteilen leckeres Eis. Ab 17:00 Uhr
  starten wir auf vier unterschiedlichen Routen aus den äußeren Stimmkre
 isen und bewegen uns in Richtung Stadtzentrum. Unser gemeinsames Ziel: Ei
 n Treffen um 20:00 Uhr auf dem Gärtnerplatz – dort dann auch mit Lisa 
 Paus\, Bundesministerin für Familie\, Senioren\, Frauen und Jugend. Wir 
 freuen uns auf regen Austausch und geselliges Beisammensein!\n\nTour 4: R
 amersdorf – Giesing – Gärtnerplatz🕓 Start: 17:00 Uhr📍 Ort: Pla
 tz der Menschenrechte\, Messestadt West🚲 Aufbruch: ~17:45 Uhr (Geschä
 tzte Dauer Weiterfahrt zum Zwischenstopp: 35 Min)\n\nZwischenstopp in Gie
 sing🕓 Start: 18:20 Uhr📍 Ort: Tela-Post in Giesing (U-Bahn-Station S
 ilberhornstraße)🚲 Ende: 19:05 Uhr (Geschätzte Dauer Weiterfahrt zum 
 Gärtnerplatz: 20 Min)\n\nGemeinsamer Abschluss:Alle vier Touren treffen 
 sich gegen 20 Uhr am Gärtnerplatz\, inklusive Bundesministerin Lisa Paus
 .\n\nInfos zu den weiteren Routen findet ihr auf der KV München Website.
CLASS:PUBLIC
DTSTART;TZID=Europe/Berlin:20230915T170000
DTEND;TZID=Europe/Berlin:20230915T210000
DTSTAMP:20260425T110129
END:VEVENT
END:VCALENDAR